BEGIN:VCALENDAR
VERSION:2.0
PRODID:-//SVP Luzern //NONSGML Events //EN
CALSCALE:GREGORIAN
X-WR-CALNAME:SVP Luzern
BEGIN:VEVENT
CREATED:20221006T063139Z
UID:24892
DTEND:20230801T150000
DTSTART:20230801T100000
DTSTAMP:20231024T055246Z
LOCATION:Steinhuserberg\, Wolhusen
DESCRIPTION:
SUMMARY:1. August-Anlass
ORGANIZER:WK Entlebuch
URL;VALUE=URI:https://www.svp-lu.ch/termine/1-augustbrunch/
TRANSP:OPAQUE
END:VEVENT
END:VCALENDAR
