BEGIN:VCALENDAR
VERSION:2.0
PRODID:-//SVP Luzern //NONSGML Events //EN
CALSCALE:GREGORIAN
X-WR-CALNAME:SVP Luzern
BEGIN:VEVENT
CREATED:20221006T063139Z
UID:24893
DTEND:20230801T000000
DTSTART:20230801T000000
DTSTAMP:20231024T060413Z
LOCATION:
DESCRIPTION:
SUMMARY:Nationalfeiertag
ORGANIZER:
URL;VALUE=URI:https://www.svp-lu.ch/termine/nationalfeiertag-5/
TRANSP:OPAQUE
END:VEVENT
END:VCALENDAR
