BEGIN:VCALENDAR
VERSION:2.0
PRODID:-//SVP Luzern //NONSGML Events //EN
CALSCALE:GREGORIAN
X-WR-CALNAME:SVP Luzern
BEGIN:VEVENT
CREATED:20221006T063139Z
UID:24895
DTEND:20230815T000000
DTSTART:20230815T000000
DTSTAMP:20231024T054914Z
LOCATION:
DESCRIPTION:
SUMMARY:Maria Himmelfahrt
ORGANIZER:
URL;VALUE=URI:https://www.svp-lu.ch/termine/maria-himmelfahrt-3/
TRANSP:OPAQUE
END:VEVENT
END:VCALENDAR
