BEGIN:VCALENDAR
VERSION:2.0
PRODID:-//SVP Luzern //NONSGML Events //EN
CALSCALE:GREGORIAN
X-WR-CALNAME:SVP Luzern
BEGIN:VEVENT
CREATED:20221006T063139Z
UID:24896
DTEND:20230817T210000
DTSTART:20230817T163000
DTSTAMP:20231024T060434Z
LOCATION:
DESCRIPTION:
SUMMARY:GL-Sitzung 2023/08
ORGANIZER:
URL;VALUE=URI:https://www.svp-lu.ch/termine/gl-sitzung-2023-08/
TRANSP:OPAQUE
END:VEVENT
END:VCALENDAR
