BEGIN:VCALENDAR
VERSION:2.0
PRODID:-//SVP Luzern //NONSGML Events //EN
CALSCALE:GREGORIAN
X-WR-CALNAME:SVP Luzern
BEGIN:VEVENT
CREATED:20221006T063139Z
UID:24897
DTEND:20221006T000000
DTSTART:20230818T000000
DTSTAMP:20231024T055005Z
LOCATION:
DESCRIPTION:
SUMMARY:Auslandschweizer-Kongress
ORGANIZER:SG
URL;VALUE=URI:https://www.svp-lu.ch/termine/auslandschweizer-kongress-5/
TRANSP:OPAQUE
END:VEVENT
END:VCALENDAR
