BEGIN:VCALENDAR
VERSION:2.0
PRODID:-//SVP Luzern //NONSGML Events //EN
CALSCALE:GREGORIAN
X-WR-CALNAME:SVP Luzern
BEGIN:VEVENT
CREATED:20221006T063139Z
UID:24898
DTEND:20230818T000000
DTSTART:20230818T000000
DTSTAMP:20231024T060158Z
LOCATION:
DESCRIPTION:
SUMMARY:Generalversammlung SVP international
ORGANIZER:
URL;VALUE=URI:https://www.svp-lu.ch/termine/generalversammlung-svp-international-3/
TRANSP:OPAQUE
END:VEVENT
END:VCALENDAR
