BEGIN:VCALENDAR
VERSION:2.0
PRODID:-//SVP Luzern //NONSGML Events //EN
CALSCALE:GREGORIAN
X-WR-CALNAME:SVP Luzern
BEGIN:VEVENT
CREATED:20221006T063140Z
UID:24900
DTEND:20230824T220000
DTSTART:20230824T193000
DTSTAMP:20231024T060449Z
LOCATION:Vogelsang
DESCRIPTION:
SUMMARY:Sitzung Parteileitung 2023/04
ORGANIZER:
URL;VALUE=URI:https://www.svp-lu.ch/termine/sitzung-parteileitung-2023-04/
TRANSP:OPAQUE
END:VEVENT
END:VCALENDAR
