BEGIN:VCALENDAR
VERSION:2.0
PRODID:-//SVP Luzern //NONSGML Events //EN
CALSCALE:GREGORIAN
X-WR-CALNAME:SVP Luzern
BEGIN:VEVENT
CREATED:20221006T063140Z
UID:24903
DTEND:20230826T153000
DTSTART:20230826T100000
DTSTAMP:20231024T055054Z
LOCATION:Swiss Life Arena\, Zürich Altstätten
DESCRIPTION:Swiss Life Arena – wir kommen!        Jetzt anmelden                
SUMMARY:Wahlauftakt SVP Schweiz
ORGANIZER:SVP CH
URL;VALUE=URI:https://www.svp-lu.ch/termine/eidg-delegiertenversammlung-21/
TRANSP:OPAQUE
END:VEVENT
END:VCALENDAR
