BEGIN:VCALENDAR
VERSION:2.0
PRODID:-//SVP Luzern //NONSGML Events //EN
CALSCALE:GREGORIAN
X-WR-CALNAME:SVP Luzern
BEGIN:VEVENT
CREATED:20221006T063140Z
UID:24904
DTEND:20230828T000000
DTSTART:20230828T000000
DTSTAMP:20231024T055448Z
LOCATION:
DESCRIPTION:
SUMMARY:Eingabeschluss Wahlvorschläge NR / SR Wahlen
ORGANIZER:
URL;VALUE=URI:https://www.svp-lu.ch/termine/eingabeschluss-wahlvorschlaege-nr-sr-wahlen-2/
TRANSP:OPAQUE
END:VEVENT
END:VCALENDAR
