BEGIN:VCALENDAR
VERSION:2.0
PRODID:-//SVP Luzern //NONSGML Events //EN
CALSCALE:GREGORIAN
X-WR-CALNAME:SVP Luzern
BEGIN:VEVENT
CREATED:20221006T063140Z
UID:24905
DTEND:20230831T220000
DTSTART:20230831T193000
DTSTAMP:20231024T055219Z
LOCATION:Betagtenzentrum Emmen
DESCRIPTION:
SUMMARY:Kant. Delegiertenversammlung
ORGANIZER:SVP Wahlkreis Hochdorf
URL;VALUE=URI:https://www.svp-lu.ch/termine/kant-delegiertenversammlung-21/
TRANSP:OPAQUE
END:VEVENT
END:VCALENDAR
