BEGIN:VCALENDAR
VERSION:2.0
PRODID:-//SVP Luzern //NONSGML Events //EN
CALSCALE:GREGORIAN
X-WR-CALNAME:SVP Luzern
BEGIN:VEVENT
CREATED:20221006T063140Z
UID:24906
DTEND:20230906T220000
DTSTART:20230906T200000
DTSTAMP:20231024T060016Z
LOCATION:
DESCRIPTION:
SUMMARY:Kant. Fraktionssitzung
ORGANIZER:WK Entlebuch
URL;VALUE=URI:https://www.svp-lu.ch/termine/kant-fraktionssitzung-32/
TRANSP:OPAQUE
END:VEVENT
END:VCALENDAR
