BEGIN:VCALENDAR
VERSION:2.0
PRODID:-//SVP Luzern //NONSGML Events //EN
CALSCALE:GREGORIAN
X-WR-CALNAME:SVP Luzern
BEGIN:VEVENT
CREATED:20221006T063140Z
UID:24907
DTEND:20230907T000000
DTSTART:20230907T000000
DTSTAMP:20231024T055041Z
LOCATION:Pilatussaal
DESCRIPTION:
SUMMARY:Einwohnerratssitzung Kriens nur Wahlen
ORGANIZER:
URL;VALUE=URI:https://www.svp-lu.ch/termine/einwohnerratssitzung-kriens-nur-wahlen-2/
TRANSP:OPAQUE
END:VEVENT
END:VCALENDAR
