BEGIN:VCALENDAR
VERSION:2.0
PRODID:-//SVP Luzern //NONSGML Events //EN
CALSCALE:GREGORIAN
X-WR-CALNAME:SVP Luzern
BEGIN:VEVENT
CREATED:20221006T063140Z
UID:24909
DTEND:20230908T220000
DTSTART:20230908T200000
DTSTAMP:20231024T055907Z
LOCATION:Sempach\, Festhalle
DESCRIPTION: [gravityform id="30" title="true" description="true"]
SUMMARY:Sempachertag (Traditioneller Parteianlass)
ORGANIZER:WK Sursee
URL;VALUE=URI:https://www.svp-lu.ch/termine/sempachertag-2023/
TRANSP:OPAQUE
END:VEVENT
END:VCALENDAR
