BEGIN:VCALENDAR
VERSION:2.0
PRODID:-//SVP Luzern //NONSGML Events //EN
CALSCALE:GREGORIAN
X-WR-CALNAME:SVP Luzern
BEGIN:VEVENT
CREATED:20221006T063140Z
UID:24911
DTEND:20230909T000000
DTSTART:20230909T000000
DTSTAMP:20231024T060127Z
LOCATION:
DESCRIPTION:
SUMMARY:Beginn Inseratenkampagne &#038\; Plakatieren Wahlen
ORGANIZER:
URL;VALUE=URI:https://www.svp-lu.ch/termine/beginn-inseratenkampagne-plakatieren-wahlen/
TRANSP:OPAQUE
END:VEVENT
END:VCALENDAR
