BEGIN:VCALENDAR
VERSION:2.0
PRODID:-//SVP Luzern //NONSGML Events //EN
CALSCALE:GREGORIAN
X-WR-CALNAME:SVP Luzern
BEGIN:VEVENT
CREATED:20221006T063141Z
UID:24912
DTEND:20221006T000000
DTSTART:20230911T000000
DTSTAMP:20231024T060030Z
LOCATION:
DESCRIPTION:
SUMMARY:Session Kantonsrat
ORGANIZER:
URL;VALUE=URI:https://www.svp-lu.ch/termine/session-kantonsrat-44/
TRANSP:OPAQUE
END:VEVENT
END:VCALENDAR
