BEGIN:VCALENDAR
VERSION:2.0
PRODID:-//SVP Luzern //NONSGML Events //EN
CALSCALE:GREGORIAN
X-WR-CALNAME:SVP Luzern
BEGIN:VEVENT
CREATED:20221006T063141Z
UID:24913
DTEND:20230929T000000
DTSTART:20230911T000000
DTSTAMP:20231024T055502Z
LOCATION:Bern
DESCRIPTION:
SUMMARY:Session National- und Ständerat
ORGANIZER:
URL;VALUE=URI:https://www.svp-lu.ch/termine/session-national-und-staenderat-22/
TRANSP:OPAQUE
END:VEVENT
END:VCALENDAR
