BEGIN:VCALENDAR
VERSION:2.0
PRODID:-//SVP Luzern //NONSGML Events //EN
CALSCALE:GREGORIAN
X-WR-CALNAME:SVP Luzern
BEGIN:VEVENT
CREATED:20221006T063141Z
UID:24914
DTEND:20230912T230000
DTSTART:20230912T133000
DTSTAMP:20231024T055355Z
LOCATION:Perlen - Ebikon
DESCRIPTION:Die zum Fraktionsausflug berechtigten Personen erhalten eine persönli
SUMMARY:Fraktionsausflug SVP Kanton Luzern
ORGANIZER:WK Hochdorf
URL;VALUE=URI:https://www.svp-lu.ch/termine/fraktionsausflug-2023/
TRANSP:OPAQUE
END:VEVENT
END:VCALENDAR
