BEGIN:VCALENDAR
VERSION:2.0
PRODID:-//SVP Luzern //NONSGML Events //EN
CALSCALE:GREGORIAN
X-WR-CALNAME:SVP Luzern
BEGIN:VEVENT
CREATED:20221006T063141Z
UID:24917
DTEND:20230917T000000
DTSTART:20230917T000000
DTSTAMP:20231024T060143Z
LOCATION:
DESCRIPTION:
SUMMARY:Eidg. Buss- und Bettag
ORGANIZER:
URL;VALUE=URI:https://www.svp-lu.ch/termine/eidg-buss-und-bettag-4/
TRANSP:OPAQUE
END:VEVENT
END:VCALENDAR
