BEGIN:VCALENDAR
VERSION:2.0
PRODID:-//SVP Luzern //NONSGML Events //EN
CALSCALE:GREGORIAN
X-WR-CALNAME:SVP Luzern
BEGIN:VEVENT
CREATED:20221006T063143Z
UID:24921
DTEND:20230928T000000
DTSTART:20230928T000000
DTSTAMP:20231024T055642Z
LOCATION:Pilatussaal
DESCRIPTION:
SUMMARY:Einwohnerratssitzung Kriens
ORGANIZER:
URL;VALUE=URI:https://www.svp-lu.ch/termine/einwohnerratssitzung-kriens-35/
TRANSP:OPAQUE
END:VEVENT
END:VCALENDAR
