BEGIN:VCALENDAR
VERSION:2.0
PRODID:-//SVP Luzern //NONSGML Events //EN
CALSCALE:GREGORIAN
X-WR-CALNAME:SVP Luzern
BEGIN:VEVENT
CREATED:20221006T063143Z
UID:24922
DTEND:20230928T220000
DTSTART:20230928T180000
DTSTAMP:20231024T055059Z
LOCATION:Stadt Luzern
DESCRIPTION:
SUMMARY:Grossstadtratssitzung Luzern
ORGANIZER:
URL;VALUE=URI:https://www.svp-lu.ch/termine/grossstadtratssitzung-luzern-67/
TRANSP:OPAQUE
END:VEVENT
END:VCALENDAR
