BEGIN:VCALENDAR
VERSION:2.0
PRODID:-//SVP Luzern //NONSGML Events //EN
CALSCALE:GREGORIAN
X-WR-CALNAME:SVP Luzern
BEGIN:VEVENT
CREATED:20221006T063143Z
UID:24925
DTEND:20231012T220000
DTSTART:20231012T193000
DTSTAMP:20231024T060255Z
LOCATION:Saal Egli\, Gemeindehausplatz 26\, 6048 Horw
DESCRIPTION:Alle Ortsparteivorstände, Richter, Staatsanwälte, Mandatsträger sow
SUMMARY:Ortsparteipräsidentenkonferenz inkl. Parteileitung
ORGANIZER:
URL;VALUE=URI:https://www.svp-lu.ch/termine/ortsparteipraesidentenkonferenz-2023/
TRANSP:OPAQUE
END:VEVENT
END:VCALENDAR
