BEGIN:VCALENDAR
VERSION:2.0
PRODID:-//SVP Luzern //NONSGML Events //EN
CALSCALE:GREGORIAN
X-WR-CALNAME:SVP Luzern
BEGIN:VEVENT
CREATED:20221006T063143Z
UID:24927
DTEND:20231018T220000
DTSTART:20231018T200000
DTSTAMP:20231024T060406Z
LOCATION:
DESCRIPTION:
SUMMARY:Kant. Fraktionssitzung
ORGANIZER:WK Stadt Luzern
URL;VALUE=URI:https://www.svp-lu.ch/termine/kant-fraktionssitzung-34/
TRANSP:OPAQUE
END:VEVENT
END:VCALENDAR
