BEGIN:VCALENDAR
VERSION:2.0
PRODID:-//SVP Luzern //NONSGML Events //EN
CALSCALE:GREGORIAN
X-WR-CALNAME:SVP Luzern
BEGIN:VEVENT
CREATED:20221006T063143Z
UID:24929
DTEND:20221007T000000
DTSTART:20231023T000000
DTSTAMP:20231024T055934Z
LOCATION:
DESCRIPTION:
SUMMARY:Session Kantonsrat
ORGANIZER:
URL;VALUE=URI:https://www.svp-lu.ch/termine/session-kantonsrat-47/
TRANSP:OPAQUE
END:VEVENT
END:VCALENDAR
