BEGIN:VCALENDAR
VERSION:2.0
PRODID:-//SVP Luzern //NONSGML Events //EN
CALSCALE:GREGORIAN
X-WR-CALNAME:SVP Luzern
BEGIN:VEVENT
CREATED:20221006T063145Z
UID:24945
DTEND:20231123T210000
DTSTART:20231123T160000
DTSTAMP:20231024T043905Z
LOCATION:Aula SH Zentrum
DESCRIPTION:
SUMMARY:Einwohnerratssitzung Horw
ORGANIZER:
URL;VALUE=URI:https://www.svp-lu.ch/termine/einwohnerratssitzung-horw-38/
TRANSP:OPAQUE
END:VEVENT
END:VCALENDAR
