BEGIN:VCALENDAR
VERSION:2.0
PRODID:-//SVP Luzern //NONSGML Events //EN
CALSCALE:GREGORIAN
X-WR-CALNAME:SVP Luzern
BEGIN:VEVENT
CREATED:20221006T063145Z
UID:24946
DTEND:20231126T000000
DTSTART:20231126T000000
DTSTAMP:20231024T043901Z
LOCATION:
DESCRIPTION:
SUMMARY:Eidg und Kant. Abstimmung evtl 2. WG Ständerat
ORGANIZER:
URL;VALUE=URI:https://www.svp-lu.ch/termine/eidg-und-kant-abstimmung-evtl-2-wg-staenderat-2/
TRANSP:OPAQUE
END:VEVENT
END:VCALENDAR
