BEGIN:VCALENDAR
VERSION:2.0
PRODID:-//SVP Luzern //NONSGML Events //EN
CALSCALE:GREGORIAN
X-WR-CALNAME:SVP Luzern
BEGIN:VEVENT
CREATED:20221006T063145Z
UID:24947
DTEND:20231129T220000
DTSTART:20231129T200000
DTSTAMP:20231024T044157Z
LOCATION:
DESCRIPTION:
SUMMARY:Kant. Fraktionssitzung
ORGANIZER:WK Willisau
URL;VALUE=URI:https://www.svp-lu.ch/termine/kant-fraktionssitzung-35/
TRANSP:OPAQUE
END:VEVENT
END:VCALENDAR
