BEGIN:VCALENDAR
VERSION:2.0
PRODID:-//SVP Luzern //NONSGML Events //EN
CALSCALE:GREGORIAN
X-WR-CALNAME:SVP Luzern
BEGIN:VEVENT
CREATED:20221006T063145Z
UID:24948
DTEND:20231130T210000
DTSTART:20231130T163000
DTSTAMP:20231024T044157Z
LOCATION:
DESCRIPTION:
SUMMARY:GL-Sitzung 2023/11
ORGANIZER:
URL;VALUE=URI:https://www.svp-lu.ch/termine/gl-sitzung-2023-11-2/
TRANSP:OPAQUE
END:VEVENT
END:VCALENDAR
