BEGIN:VCALENDAR
VERSION:2.0
PRODID:-//SVP Luzern //NONSGML Events //EN
CALSCALE:GREGORIAN
X-WR-CALNAME:SVP Luzern
BEGIN:VEVENT
CREATED:20221006T063146Z
UID:24952
DTEND:20231205T100000
DTSTART:20231205T080000
DTSTAMP:20231024T043844Z
LOCATION:
DESCRIPTION:
SUMMARY:Gottesdienst Kantonsrat
ORGANIZER:
URL;VALUE=URI:https://www.svp-lu.ch/termine/gottesdienst-kantonsrat-6/
TRANSP:OPAQUE
END:VEVENT
END:VCALENDAR
