BEGIN:VCALENDAR
VERSION:2.0
PRODID:-//SVP Luzern //NONSGML Events //EN
CALSCALE:GREGORIAN
X-WR-CALNAME:SVP Luzern
BEGIN:VEVENT
CREATED:20221006T063146Z
UID:24953
DTEND:20231207T220000
DTSTART:20231207T193000
DTSTAMP:20231024T043756Z
LOCATION:Vogelsang
DESCRIPTION:
SUMMARY:Sitzung Parteileitung 2023/06
ORGANIZER:
URL;VALUE=URI:https://www.svp-lu.ch/termine/sitzung-parteileitung-2023-06/
TRANSP:OPAQUE
END:VEVENT
END:VCALENDAR
