BEGIN:VCALENDAR
VERSION:2.0
PRODID:-//SVP Luzern //NONSGML Events //EN
CALSCALE:GREGORIAN
X-WR-CALNAME:SVP Luzern
BEGIN:VEVENT
CREATED:20221006T063147Z
UID:24962
DTEND:20231224T000000
DTSTART:20231224T000000
DTSTAMP:20231024T044032Z
LOCATION:
DESCRIPTION:
SUMMARY:Heiliger Abend
ORGANIZER:
URL;VALUE=URI:https://www.svp-lu.ch/termine/heiliger-abend-5/
TRANSP:OPAQUE
END:VEVENT
END:VCALENDAR
