BEGIN:VCALENDAR
VERSION:2.0
PRODID:-//SVP Luzern //NONSGML Events //EN
CALSCALE:GREGORIAN
X-WR-CALNAME:SVP Luzern
BEGIN:VEVENT
CREATED:20221019T165138Z
UID:25085
DTEND:20231111T140000
DTSTART:20231111T103000
DTSTAMP:20231024T044151Z
LOCATION:Alterswilen\, TG
DESCRIPTION:
SUMMARY:Eidg.Delegiertenversammlung
ORGANIZER:
URL;VALUE=URI:https://www.svp-lu.ch/termine/eidg-delegiertenversammlung-18/
TRANSP:OPAQUE
END:VEVENT
END:VCALENDAR
