BEGIN:VCALENDAR
VERSION:2.0
PRODID:-//SVP Luzern //NONSGML Events //EN
CALSCALE:GREGORIAN
X-WR-CALNAME:SVP Luzern
BEGIN:VEVENT
CREATED:20221025T162750Z
UID:25127
DTEND:20221029T000000
DTSTART:20221029T000000
DTSTAMP:20231024T055927Z
LOCATION:
DESCRIPTION:
SUMMARY:Nationaler Sammeltag gegen das Stromfresser-Gesetz
ORGANIZER:
URL;VALUE=URI:https://www.svp-lu.ch/termine/nationaler-sammeltag-gegen-das-stromfresser-gesetz/
TRANSP:OPAQUE
END:VEVENT
END:VCALENDAR
