BEGIN:VCALENDAR
VERSION:2.0
PRODID:-//SVP Luzern //NONSGML Events //EN
CALSCALE:GREGORIAN
X-WR-CALNAME:SVP Luzern
BEGIN:VEVENT
CREATED:20221025T162920Z
UID:25129
DTEND:20221112T000000
DTSTART:20221112T000000
DTSTAMP:20231024T055804Z
LOCATION:
DESCRIPTION:
SUMMARY:2. Nationaler Sammeltag gegen das Stromfresser-Gesetz
ORGANIZER:
URL;VALUE=URI:https://www.svp-lu.ch/termine/2-nationaler-sammeltag-gegen-das-stromfresser-gesetz/
TRANSP:OPAQUE
END:VEVENT
END:VCALENDAR
