BEGIN:VCALENDAR
VERSION:2.0
PRODID:-//SVP Luzern //NONSGML Events //EN
CALSCALE:GREGORIAN
X-WR-CALNAME:SVP Luzern
BEGIN:VEVENT
CREATED:20221028T075334Z
UID:25757
DTEND:20221110T000000
DTSTART:20221110T000000
DTSTAMP:20231024T060354Z
LOCATION:Schüpfheim LU
DESCRIPTION:
SUMMARY:Kalter Markt Schüpfheim
ORGANIZER:
URL;VALUE=URI:https://www.svp-lu.ch/termine/kalter-markt-schuepfheim/
TRANSP:OPAQUE
END:VEVENT
END:VCALENDAR
