BEGIN:VCALENDAR
VERSION:2.0
PRODID:-//SVP Luzern //NONSGML Events //EN
CALSCALE:GREGORIAN
X-WR-CALNAME:SVP Luzern
BEGIN:VEVENT
CREATED:20221028T075532Z
UID:25761
DTEND:20221124T200000
DTSTART:20221124T193000
DTSTAMP:20231024T055719Z
LOCATION:Braui\, Sursee
DESCRIPTION:
SUMMARY:Nomination KR Wahlkreis Sursee
ORGANIZER:
URL;VALUE=URI:https://www.svp-lu.ch/termine/nomination-kr-wahlkreis-sursee/
TRANSP:OPAQUE
END:VEVENT
END:VCALENDAR
