BEGIN:VCALENDAR
VERSION:2.0
PRODID:-//SVP Luzern //NONSGML Events //EN
CALSCALE:GREGORIAN
X-WR-CALNAME:SVP Luzern
BEGIN:VEVENT
CREATED:20221028T075629Z
UID:25763
DTEND:20221130T000000
DTSTART:20221130T000000
DTSTAMP:20231024T060340Z
LOCATION:
DESCRIPTION:
SUMMARY:Nomination KR Wahlkreis Luzern Land
ORGANIZER:
URL;VALUE=URI:https://www.svp-lu.ch/termine/nomination-kr-wahlkreis-luzern-land/
TRANSP:OPAQUE
END:VEVENT
END:VCALENDAR
