BEGIN:VCALENDAR
VERSION:2.0
PRODID:-//SVP Luzern //NONSGML Events //EN
CALSCALE:GREGORIAN
X-WR-CALNAME:SVP Luzern
BEGIN:VEVENT
CREATED:20221028T075729Z
UID:25765
DTEND:20221206T163000
DTSTART:20221206T080000
DTSTAMP:20231024T055710Z
LOCATION:Städtli Sursee
DESCRIPTION:
SUMMARY:Chlausmärt in Sursee
ORGANIZER:SVP Sursee
URL;VALUE=URI:https://www.svp-lu.ch/termine/chlausmaert-in-sursee-2/
TRANSP:OPAQUE
END:VEVENT
END:VCALENDAR
