BEGIN:VCALENDAR
VERSION:2.0
PRODID:-//SVP Luzern //NONSGML Events //EN
CALSCALE:GREGORIAN
X-WR-CALNAME:SVP Luzern
BEGIN:VEVENT
CREATED:20221028T075918Z
UID:25769
DTEND:20220113T000000
DTSTART:20220113T000000
DTSTAMP:20231024T055403Z
LOCATION:Schlossschüür Willisau
DESCRIPTION:
SUMMARY:Nomination KR Wahlkreis Willisau
ORGANIZER:
URL;VALUE=URI:https://www.svp-lu.ch/termine/nomination-kr-wahlkreis-willisau/
TRANSP:OPAQUE
END:VEVENT
END:VCALENDAR
