BEGIN:VCALENDAR
VERSION:2.0
PRODID:-//SVP Luzern //NONSGML Events //EN
CALSCALE:GREGORIAN
X-WR-CALNAME:SVP Luzern
BEGIN:VEVENT
CREATED:20221028T075947Z
UID:25771
DTEND:20230113T000000
DTSTART:20230113T000000
DTSTAMP:20231024T055738Z
LOCATION:
DESCRIPTION:
SUMMARY:Nominationsversammlung KR Wahlkreis Entlebuch
ORGANIZER:
URL;VALUE=URI:https://www.svp-lu.ch/termine/nomination-kr-wahlkreis-entlebuch/
TRANSP:OPAQUE
END:VEVENT
END:VCALENDAR
