BEGIN:VCALENDAR
VERSION:2.0
PRODID:-//SVP Luzern //NONSGML Events //EN
CALSCALE:GREGORIAN
X-WR-CALNAME:SVP Luzern
BEGIN:VEVENT
CREATED:20221028T080218Z
UID:25775
DTEND:20230204T000000
DTSTART:20230204T000000
DTSTAMP:20231024T055550Z
LOCATION:Menznau
DESCRIPTION:
SUMMARY:Landwirtschaftkommission Nomination der bäuerlichen Kandidierenden
ORGANIZER:
URL;VALUE=URI:https://www.svp-lu.ch/termine/landwirtschaftkommission-nomination-der-baeuerlichen-kandidierenden/
TRANSP:OPAQUE
END:VEVENT
END:VCALENDAR
