BEGIN:VCALENDAR
VERSION:2.0
PRODID:-//SVP Luzern //NONSGML Events //EN
CALSCALE:GREGORIAN
X-WR-CALNAME:SVP Luzern
BEGIN:VEVENT
CREATED:20221101T085310Z
UID:25790
DTEND:20230322T200000
DTSTART:20230322T193000
DTSTAMP:20231024T055532Z
LOCATION:Raum Sursee
DESCRIPTION:
SUMMARY:Mitgliederversammlung Wahlkreis Sursee
ORGANIZER:WK Sursee
URL;VALUE=URI:https://www.svp-lu.ch/termine/mitgliederversammlung-wahlkreis-sursee/
TRANSP:OPAQUE
END:VEVENT
END:VCALENDAR
