BEGIN:VCALENDAR
VERSION:2.0
PRODID:-//SVP Luzern //NONSGML Events //EN
CALSCALE:GREGORIAN
X-WR-CALNAME:SVP Luzern
BEGIN:VEVENT
CREATED:20221118T100028Z
UID:25870
DTEND:20230121T133000
DTSTART:20230121T090000
DTSTAMP:20231024T055503Z
LOCATION:Restaurant EULE\, Horw
DESCRIPTION:[gravityform id="27" title="true" description="true"]
SUMMARY:Schulungstagung Ortsparteien
ORGANIZER:SVP Kanton Luzern
URL;VALUE=URI:https://www.svp-lu.ch/termine/schulungstagung-2023/
TRANSP:OPAQUE
END:VEVENT
END:VCALENDAR
