BEGIN:VCALENDAR
VERSION:2.0
PRODID:-//SVP Luzern //NONSGML Events //EN
CALSCALE:GREGORIAN
X-WR-CALNAME:SVP Luzern
BEGIN:VEVENT
CREATED:20221118T121213Z
UID:25878
DTEND:20230706T213000
DTSTART:20230706T193000
DTSTAMP:20231024T060011Z
LOCATION:Hirschen in Oberkirch
DESCRIPTION:
SUMMARY:Nominationsveranstaltung NR/SR
ORGANIZER:SVP Kanton Luzern
URL;VALUE=URI:https://www.svp-lu.ch/termine/nominationsveranstaltung-nr-sr/
TRANSP:OPAQUE
END:VEVENT
END:VCALENDAR
