BEGIN:VCALENDAR
VERSION:2.0
PRODID:-//SVP Luzern //NONSGML Events //EN
CALSCALE:GREGORIAN
X-WR-CALNAME:SVP Luzern
BEGIN:VEVENT
CREATED:20221215T054720Z
UID:25949
DTEND:20221215T200000
DTSTART:20221215T193000
DTSTAMP:20231024T055708Z
LOCATION:Rössli esskultur\, Wolhusen
DESCRIPTION:Schwerpunktthema "Spital Wolhusen"
SUMMARY:ao Delegiertenversammlung
ORGANIZER:SVP Kanton Luzern
URL;VALUE=URI:https://www.svp-lu.ch/termine/ao-delegiertenversammlung/
TRANSP:OPAQUE
END:VEVENT
END:VCALENDAR
