BEGIN:VCALENDAR
VERSION:2.0
PRODID:-//SVP Luzern //NONSGML Events //EN
CALSCALE:GREGORIAN
X-WR-CALNAME:SVP Luzern
BEGIN:VEVENT
CREATED:20221220T201845Z
UID:26031
DTEND:20230206T220000
DTSTART:20230206T193000
DTSTAMP:20231024T055104Z
LOCATION:Kulturzentrum Braui\, Hochdorf
DESCRIPTION:Roger Köppel «Neutralität – Lage der Schweiz» 
SUMMARY:Referat von Roger Köppel
ORGANIZER:SVP Hochdorf
URL;VALUE=URI:https://www.svp-lu.ch/termine/referat-von-roger-koeppel/
TRANSP:OPAQUE
END:VEVENT
END:VCALENDAR
