BEGIN:VCALENDAR
VERSION:2.0
PRODID:-//SVP Luzern //NONSGML Events //EN
CALSCALE:GREGORIAN
X-WR-CALNAME:SVP Luzern
BEGIN:VEVENT
CREATED:20230111T073752Z
UID:26174
DTEND:20230123T200000
DTSTART:20230123T193000
DTSTAMP:20231024T055309Z
LOCATION:Rest. Rössli\, Wolhusen
DESCRIPTION:
SUMMARY:Für unser Spital &#8211\; Ohne wenn und aber
ORGANIZER:Wahlkreis Entlebuch
URL;VALUE=URI:https://www.svp-lu.ch/termine/fuer-unser-spital-ohne-wenn-und-aber/
TRANSP:OPAQUE
END:VEVENT
END:VCALENDAR
