BEGIN:VCALENDAR
VERSION:2.0
PRODID:-//SVP Luzern //NONSGML Events //EN
CALSCALE:GREGORIAN
X-WR-CALNAME:SVP Luzern
BEGIN:VEVENT
CREATED:20230111T074934Z
UID:26177
DTEND:20230301T220000
DTSTART:20230301T190000
DTSTAMP:20231024T055002Z
LOCATION:Schiessanlage Hegen\, Rengg
DESCRIPTION:Ort: Schiessanlage Hegen, Rengg Zeit: 19.00 Uhr
SUMMARY:Thema Sicherheit mit Ständerat Werner Salzmann
ORGANIZER:Wahlkreis Entlebuch
URL;VALUE=URI:https://www.svp-lu.ch/termine/sicherheit-mit-werner-salzmann/
TRANSP:OPAQUE
END:VEVENT
END:VCALENDAR
