BEGIN:VCALENDAR
VERSION:2.0
PRODID:-//SVP Luzern //NONSGML Events //EN
CALSCALE:GREGORIAN
X-WR-CALNAME:SVP Luzern
BEGIN:VEVENT
CREATED:20230117T201931Z
UID:26223
DTEND:20230305T120000
DTSTART:20230305T100000
DTSTAMP:20231024T055658Z
LOCATION:Rössli Wolhusen
DESCRIPTION:Am 2. April 2023 finden die Gesamterneuerungswahlen für die Luzerner 
SUMMARY:Wahlmatinee mit SRF
ORGANIZER:SRF SRG
URL;VALUE=URI:https://www.svp-lu.ch/termine/wahlmatinee-mit-srf/
TRANSP:OPAQUE
END:VEVENT
END:VCALENDAR
