BEGIN:VCALENDAR
VERSION:2.0
PRODID:-//SVP Luzern //NONSGML Events //EN
CALSCALE:GREGORIAN
X-WR-CALNAME:SVP Luzern
BEGIN:VEVENT
CREATED:20230301T121022Z
UID:26894
DTEND:20230305T120000
DTSTART:20230305T093000
DTSTAMP:20231024T054931Z
LOCATION:Rössli Wolhusen\, ab 09:30 Uhr
DESCRIPTION: Politischer Schlagabtausch vor den Regierungswahlen oder Grosse Poli
SUMMARY:Luzerner Wahlmatinee
ORGANIZER:
URL;VALUE=URI:https://www.svp-lu.ch/termine/luzerner-wahlmatinee/
TRANSP:OPAQUE
END:VEVENT
END:VCALENDAR
