BEGIN:VCALENDAR
VERSION:2.0
PRODID:-//SVP Luzern //NONSGML Events //EN
CALSCALE:GREGORIAN
X-WR-CALNAME:SVP Luzern
BEGIN:VEVENT
CREATED:20230518T113318Z
UID:27225
DTEND:20230609T200000
DTSTART:20230609T193000
DTSTAMP:20231024T055731Z
LOCATION:Gemeindesaal Adler\, 6170 Schüpfheim
DESCRIPTION:Traktanden: 1. Begrüssung 2. Rückblick Kantonsrats- und Regierungsra
SUMMARY:Nominationsversammlung Wahlkreis Entlebuch
ORGANIZER:WK Entlebuch
URL;VALUE=URI:https://www.svp-lu.ch/termine/nominationsversammlung-wahlkreis-entlebuch/
TRANSP:OPAQUE
END:VEVENT
END:VCALENDAR
